BEGIN:VCALENDAR
VERSION:2.0
PRODID:-//Lutheran Campus Ministry - Twin Cities - ECPv6.15.11//NONSGML v1.0//EN
CALSCALE:GREGORIAN
METHOD:PUBLISH
X-ORIGINAL-URL:https://lcmtc.org
X-WR-CALDESC:Events for Lutheran Campus Ministry - Twin Cities
REFRESH-INTERVAL;VALUE=DURATION:PT1H
X-Robots-Tag:noindex
X-PUBLISHED-TTL:PT1H
BEGIN:VTIMEZONE
TZID:America/Chicago
BEGIN:DAYLIGHT
TZOFFSETFROM:-0600
TZOFFSETTO:-0500
TZNAME:CDT
DTSTART:20240310T080000
END:DAYLIGHT
BEGIN:STANDARD
TZOFFSETFROM:-0500
TZOFFSETTO:-0600
TZNAME:CST
DTSTART:20241103T070000
END:STANDARD
BEGIN:DAYLIGHT
TZOFFSETFROM:-0600
TZOFFSETTO:-0500
TZNAME:CDT
DTSTART:20250309T080000
END:DAYLIGHT
BEGIN:STANDARD
TZOFFSETFROM:-0500
TZOFFSETTO:-0600
TZNAME:CST
DTSTART:20251102T070000
END:STANDARD
BEGIN:DAYLIGHT
TZOFFSETFROM:-0600
TZOFFSETTO:-0500
TZNAME:CDT
DTSTART:20260308T080000
END:DAYLIGHT
BEGIN:STANDARD
TZOFFSETFROM:-0500
TZOFFSETTO:-0600
TZNAME:CST
DTSTART:20261101T070000
END:STANDARD
END:VTIMEZONE
BEGIN:VEVENT
DTSTART;TZID=America/Chicago:20250430T200000
DTEND;TZID=America/Chicago:20250430T210000
DTSTAMP:20260424T085738
CREATED:20240830T192915Z
LAST-MODIFIED:20250116T214749Z
UID:6266-1746043200-1746046800@lcmtc.org
SUMMARY:pause student worship
DESCRIPTION:During the school year\, we meet for worship at 8pm at Grace University Lutheran Church — we call it pause because it’s like taking a big deep breath in the middle of the week. You can expect mostly students to be in attendance\, acoustic music\, beautiful art\, robust conversation\, quiet prayer\, and reflection. Our communion table is open\, which is one way of expressing that when we say all are welcome\, we really mean it.
URL:https://lcmtc.org/event/pause-2025-01-29/2025-04-30/
LOCATION:Grace University Lutheran Church\, 324 SE Harvard St\, Minneapolis\, 55414\, United States
CATEGORIES:Worship
ATTACH;FMTTYPE=image/png:https://lcmtc.org/wp-content/uploads/2024/08/Events-2024-2025.png
END:VEVENT
BEGIN:VEVENT
DTSTART;TZID=America/Chicago:20250423T200000
DTEND;TZID=America/Chicago:20250423T210000
DTSTAMP:20260424T085738
CREATED:20240830T192915Z
LAST-MODIFIED:20250116T214749Z
UID:6265-1745438400-1745442000@lcmtc.org
SUMMARY:pause student worship
DESCRIPTION:During the school year\, we meet for worship at 8pm at Grace University Lutheran Church — we call it pause because it’s like taking a big deep breath in the middle of the week. You can expect mostly students to be in attendance\, acoustic music\, beautiful art\, robust conversation\, quiet prayer\, and reflection. Our communion table is open\, which is one way of expressing that when we say all are welcome\, we really mean it.
URL:https://lcmtc.org/event/pause-2025-01-29/2025-04-23/
LOCATION:Grace University Lutheran Church\, 324 SE Harvard St\, Minneapolis\, 55414\, United States
CATEGORIES:Worship
ATTACH;FMTTYPE=image/png:https://lcmtc.org/wp-content/uploads/2024/08/Events-2024-2025.png
END:VEVENT
BEGIN:VEVENT
DTSTART;TZID=America/Chicago:20250416T200000
DTEND;TZID=America/Chicago:20250416T210000
DTSTAMP:20260424T085738
CREATED:20240830T192915Z
LAST-MODIFIED:20250116T214749Z
UID:6264-1744833600-1744837200@lcmtc.org
SUMMARY:pause student worship
DESCRIPTION:During the school year\, we meet for worship at 8pm at Grace University Lutheran Church — we call it pause because it’s like taking a big deep breath in the middle of the week. You can expect mostly students to be in attendance\, acoustic music\, beautiful art\, robust conversation\, quiet prayer\, and reflection. Our communion table is open\, which is one way of expressing that when we say all are welcome\, we really mean it.
URL:https://lcmtc.org/event/pause-2025-01-29/2025-04-16/
LOCATION:Grace University Lutheran Church\, 324 SE Harvard St\, Minneapolis\, 55414\, United States
CATEGORIES:Worship
ATTACH;FMTTYPE=image/png:https://lcmtc.org/wp-content/uploads/2024/08/Events-2024-2025.png
END:VEVENT
BEGIN:VEVENT
DTSTART;TZID=America/Chicago:20250409T200000
DTEND;TZID=America/Chicago:20250409T210000
DTSTAMP:20260424T085738
CREATED:20240830T192915Z
LAST-MODIFIED:20250116T214749Z
UID:6263-1744228800-1744232400@lcmtc.org
SUMMARY:pause student worship
DESCRIPTION:During the school year\, we meet for worship at 8pm at Grace University Lutheran Church — we call it pause because it’s like taking a big deep breath in the middle of the week. You can expect mostly students to be in attendance\, acoustic music\, beautiful art\, robust conversation\, quiet prayer\, and reflection. Our communion table is open\, which is one way of expressing that when we say all are welcome\, we really mean it.
URL:https://lcmtc.org/event/pause-2025-01-29/2025-04-09/
LOCATION:Grace University Lutheran Church\, 324 SE Harvard St\, Minneapolis\, 55414\, United States
CATEGORIES:Worship
ATTACH;FMTTYPE=image/png:https://lcmtc.org/wp-content/uploads/2024/08/Events-2024-2025.png
END:VEVENT
BEGIN:VEVENT
DTSTART;TZID=America/Chicago:20250402T200000
DTEND;TZID=America/Chicago:20250402T210000
DTSTAMP:20260424T085738
CREATED:20240830T192915Z
LAST-MODIFIED:20250116T214749Z
UID:6262-1743624000-1743627600@lcmtc.org
SUMMARY:pause student worship
DESCRIPTION:During the school year\, we meet for worship at 8pm at Grace University Lutheran Church — we call it pause because it’s like taking a big deep breath in the middle of the week. You can expect mostly students to be in attendance\, acoustic music\, beautiful art\, robust conversation\, quiet prayer\, and reflection. Our communion table is open\, which is one way of expressing that when we say all are welcome\, we really mean it.
URL:https://lcmtc.org/event/pause-2025-01-29/2025-04-02/
LOCATION:Grace University Lutheran Church\, 324 SE Harvard St\, Minneapolis\, 55414\, United States
CATEGORIES:Worship
ATTACH;FMTTYPE=image/png:https://lcmtc.org/wp-content/uploads/2024/08/Events-2024-2025.png
END:VEVENT
BEGIN:VEVENT
DTSTART;TZID=America/Chicago:20250326T200000
DTEND;TZID=America/Chicago:20250326T210000
DTSTAMP:20260424T085738
CREATED:20240830T192915Z
LAST-MODIFIED:20250116T214749Z
UID:6261-1743019200-1743022800@lcmtc.org
SUMMARY:pause student worship
DESCRIPTION:During the school year\, we meet for worship at 8pm at Grace University Lutheran Church — we call it pause because it’s like taking a big deep breath in the middle of the week. You can expect mostly students to be in attendance\, acoustic music\, beautiful art\, robust conversation\, quiet prayer\, and reflection. Our communion table is open\, which is one way of expressing that when we say all are welcome\, we really mean it.
URL:https://lcmtc.org/event/pause-2025-01-29/2025-03-26/
LOCATION:Grace University Lutheran Church\, 324 SE Harvard St\, Minneapolis\, 55414\, United States
CATEGORIES:Worship
ATTACH;FMTTYPE=image/png:https://lcmtc.org/wp-content/uploads/2024/08/Events-2024-2025.png
END:VEVENT
BEGIN:VEVENT
DTSTART;TZID=America/Chicago:20250319T200000
DTEND;TZID=America/Chicago:20250319T210000
DTSTAMP:20260424T085738
CREATED:20240830T192915Z
LAST-MODIFIED:20250116T214749Z
UID:6260-1742414400-1742418000@lcmtc.org
SUMMARY:pause student worship
DESCRIPTION:During the school year\, we meet for worship at 8pm at Grace University Lutheran Church — we call it pause because it’s like taking a big deep breath in the middle of the week. You can expect mostly students to be in attendance\, acoustic music\, beautiful art\, robust conversation\, quiet prayer\, and reflection. Our communion table is open\, which is one way of expressing that when we say all are welcome\, we really mean it.
URL:https://lcmtc.org/event/pause-2025-01-29/2025-03-19/
LOCATION:Grace University Lutheran Church\, 324 SE Harvard St\, Minneapolis\, 55414\, United States
CATEGORIES:Worship
ATTACH;FMTTYPE=image/png:https://lcmtc.org/wp-content/uploads/2024/08/Events-2024-2025.png
END:VEVENT
BEGIN:VEVENT
DTSTART;TZID=America/Chicago:20250305T200000
DTEND;TZID=America/Chicago:20250305T210000
DTSTAMP:20260424T085738
CREATED:20240830T192915Z
LAST-MODIFIED:20250116T214748Z
UID:6259-1741204800-1741208400@lcmtc.org
SUMMARY:pause student worship
DESCRIPTION:During the school year\, we meet for worship at 8pm at Grace University Lutheran Church — we call it pause because it’s like taking a big deep breath in the middle of the week. You can expect mostly students to be in attendance\, acoustic music\, beautiful art\, robust conversation\, quiet prayer\, and reflection. Our communion table is open\, which is one way of expressing that when we say all are welcome\, we really mean it.
URL:https://lcmtc.org/event/pause-2025-01-29/2025-03-05/
LOCATION:Grace University Lutheran Church\, 324 SE Harvard St\, Minneapolis\, 55414\, United States
CATEGORIES:Worship
ATTACH;FMTTYPE=image/png:https://lcmtc.org/wp-content/uploads/2024/08/Events-2024-2025.png
END:VEVENT
BEGIN:VEVENT
DTSTART;TZID=America/Chicago:20250226T200000
DTEND;TZID=America/Chicago:20250226T210000
DTSTAMP:20260424T085738
CREATED:20240830T192915Z
LAST-MODIFIED:20250116T214748Z
UID:6258-1740600000-1740603600@lcmtc.org
SUMMARY:pause student worship
DESCRIPTION:During the school year\, we meet for worship at 8pm at Grace University Lutheran Church — we call it pause because it’s like taking a big deep breath in the middle of the week. You can expect mostly students to be in attendance\, acoustic music\, beautiful art\, robust conversation\, quiet prayer\, and reflection. Our communion table is open\, which is one way of expressing that when we say all are welcome\, we really mean it.
URL:https://lcmtc.org/event/pause-2025-01-29/2025-02-26/
LOCATION:Grace University Lutheran Church\, 324 SE Harvard St\, Minneapolis\, 55414\, United States
CATEGORIES:Worship
ATTACH;FMTTYPE=image/png:https://lcmtc.org/wp-content/uploads/2024/08/Events-2024-2025.png
END:VEVENT
BEGIN:VEVENT
DTSTART;TZID=America/Chicago:20250219T200000
DTEND;TZID=America/Chicago:20250219T210000
DTSTAMP:20260424T085738
CREATED:20240830T192915Z
LAST-MODIFIED:20250116T214748Z
UID:6257-1739995200-1739998800@lcmtc.org
SUMMARY:pause student worship
DESCRIPTION:During the school year\, we meet for worship at 8pm at Grace University Lutheran Church — we call it pause because it’s like taking a big deep breath in the middle of the week. You can expect mostly students to be in attendance\, acoustic music\, beautiful art\, robust conversation\, quiet prayer\, and reflection. Our communion table is open\, which is one way of expressing that when we say all are welcome\, we really mean it.
URL:https://lcmtc.org/event/pause-2025-01-29/2025-02-19/
LOCATION:Grace University Lutheran Church\, 324 SE Harvard St\, Minneapolis\, 55414\, United States
CATEGORIES:Worship
ATTACH;FMTTYPE=image/png:https://lcmtc.org/wp-content/uploads/2024/08/Events-2024-2025.png
END:VEVENT
BEGIN:VEVENT
DTSTART;TZID=America/Chicago:20250212T200000
DTEND;TZID=America/Chicago:20250212T210000
DTSTAMP:20260424T085738
CREATED:20240830T192915Z
LAST-MODIFIED:20250116T214748Z
UID:6256-1739390400-1739394000@lcmtc.org
SUMMARY:pause student worship
DESCRIPTION:During the school year\, we meet for worship at 8pm at Grace University Lutheran Church — we call it pause because it’s like taking a big deep breath in the middle of the week. You can expect mostly students to be in attendance\, acoustic music\, beautiful art\, robust conversation\, quiet prayer\, and reflection. Our communion table is open\, which is one way of expressing that when we say all are welcome\, we really mean it.
URL:https://lcmtc.org/event/pause-2025-01-29/2025-02-12/
LOCATION:Grace University Lutheran Church\, 324 SE Harvard St\, Minneapolis\, 55414\, United States
CATEGORIES:Worship
ATTACH;FMTTYPE=image/png:https://lcmtc.org/wp-content/uploads/2024/08/Events-2024-2025.png
END:VEVENT
BEGIN:VEVENT
DTSTART;TZID=America/Chicago:20250205T200000
DTEND;TZID=America/Chicago:20250205T210000
DTSTAMP:20260424T085738
CREATED:20240830T192915Z
LAST-MODIFIED:20250116T214748Z
UID:6255-1738785600-1738789200@lcmtc.org
SUMMARY:pause student worship
DESCRIPTION:During the school year\, we meet for worship at 8pm at Grace University Lutheran Church — we call it pause because it’s like taking a big deep breath in the middle of the week. You can expect mostly students to be in attendance\, acoustic music\, beautiful art\, robust conversation\, quiet prayer\, and reflection. Our communion table is open\, which is one way of expressing that when we say all are welcome\, we really mean it.
URL:https://lcmtc.org/event/pause-2025-01-29/2025-02-05/
LOCATION:Grace University Lutheran Church\, 324 SE Harvard St\, Minneapolis\, 55414\, United States
CATEGORIES:Worship
ATTACH;FMTTYPE=image/png:https://lcmtc.org/wp-content/uploads/2024/08/Events-2024-2025.png
END:VEVENT
BEGIN:VEVENT
DTSTART;TZID=America/Chicago:20250129T200000
DTEND;TZID=America/Chicago:20250129T210000
DTSTAMP:20260424T085738
CREATED:20240830T192915Z
LAST-MODIFIED:20250116T214748Z
UID:6254-1738180800-1738184400@lcmtc.org
SUMMARY:pause student worship
DESCRIPTION:During the school year\, we meet for worship at 8pm at Grace University Lutheran Church — we call it pause because it’s like taking a big deep breath in the middle of the week. You can expect mostly students to be in attendance\, acoustic music\, beautiful art\, robust conversation\, quiet prayer\, and reflection. Our communion table is open\, which is one way of expressing that when we say all are welcome\, we really mean it.
URL:https://lcmtc.org/event/pause-2025-01-29/2025-01-29/
LOCATION:Grace University Lutheran Church\, 324 SE Harvard St\, Minneapolis\, 55414\, United States
CATEGORIES:Worship
ATTACH;FMTTYPE=image/png:https://lcmtc.org/wp-content/uploads/2024/08/Events-2024-2025.png
END:VEVENT
END:VCALENDAR